BEGIN:VCALENDAR
VERSION:2.0
PRODID:-//wp-events-plugin.com//7.2.3.1//EN
TZID:America/Vancouver
X-WR-TIMEZONE:America/Vancouver
BEGIN:VEVENT
UID:168@westviewlearning.ca
DTSTART;TZID=America/Vancouver:20260422T151500
DTEND;TZID=America/Vancouver:20260520T171500
DTSTAMP:20260320T152258Z
URL:https://westviewlearning.ca/events/after-school-animation-and-digital-
 art/
SUMMARY:After School Animation and Digital Art
DESCRIPTION:Title: Digital Art and Animation\n\nDates: Wednesday\, April 22
 \, 29\, May 6\, 13\, 20\n\nCost: $200\n\nTime: 3:15-5:15\n\nBring your ima
 gination to life at Animation &amp\; Digital Art! Participants will explor
 e the exciting world of digital creativity\, learning how to create animat
 ions\, characters\, and stories.
LOCATION:WestView Learning\, 3248 Cowichan Valley Hwy\, Duncan\, BC\, Briti
 sh Columbia\, V9L 5Z4\, Canada
X-APPLE-STRUCTURED-LOCATION;VALUE=URI;X-ADDRESS=3248 Cowichan Valley Hwy\, 
 Duncan\, BC\, British Columbia\, V9L 5Z4\, Canada;X-APPLE-RADIUS=100;X-TIT
 LE=WestView Learning:geo:0,0
END:VEVENT
BEGIN:VTIMEZONE
TZID:America/Vancouver
X-LIC-LOCATION:America/Vancouver
BEGIN:DAYLIGHT
DTSTART:20260308T030000
TZOFFSETFROM:-0800
TZOFFSETTO:-0700
TZNAME:PDT
END:DAYLIGHT
END:VTIMEZONE
END:VCALENDAR