BEGIN:VCALENDAR
VERSION:2.0
PRODID:-//wp-events-plugin.com//7.2.3.1//EN
TZID:America/Vancouver
X-WR-TIMEZONE:America/Vancouver
BEGIN:VEVENT
UID:20@westviewlearning.ca
DTSTART:20230609T090000Z
DTEND:20230623T103000Z
DTSTAMP:20230324T105340Z
URL:https://westviewlearning.ca/events/beginner-apple-computers-june-9-16-
 23/
SUMMARY:Beginner Apple Computers\, June 9\, 16\, 23
DESCRIPTION:Beginner Apple Computers\nDate:  June 9\, 16\, 23\n\nTime:  9
 :00 - 10:30 am\n\nWelcome to the world of Mac computers.  Learn your way 
 around the Mac as this class explores the operating system\, basic compute
 r skills\, and built in communication\, photo\, and organization apps. You
  need to bring a computer to this class!  Please contact the instructor i
 f you need to borrow a laptop.
LOCATION:WestView Learning\, 3248 Cowichan Valley Hwy\, Duncan\, BC\, Briti
 sh Columbia\, V9L 5Z4\, Canada
X-APPLE-STRUCTURED-LOCATION;VALUE=URI;X-ADDRESS=3248 Cowichan Valley Hwy\, 
 Duncan\, BC\, British Columbia\, V9L 5Z4\, Canada;X-APPLE-RADIUS=100;X-TIT
 LE=WestView Learning:geo:0,0
END:VEVENT
END:VCALENDAR