BEGIN:VCALENDAR
VERSION:2.0
PRODID:-//wp-events-plugin.com//7.2.3.1//EN
TZID:America/Vancouver
X-WR-TIMEZONE:America/Vancouver
BEGIN:VEVENT
UID:152@westviewlearning.ca
DTSTART;TZID=America/Vancouver:20260706T090000
DTEND;TZID=America/Vancouver:20260710T150000
DTSTAMP:20260401T194622Z
URL:https://westviewlearning.ca/events/code-quest-create-your-own-games-ag
 es-6-9/
SUMMARY:Code Quest: Create Your Own Games! Ages 6-9
DESCRIPTION:Title: Code Quest: Create Your Own Games!\n\nCost: $350\n\nDate
 : Week 2: July 6-July 10 Ages 6-9\n\nReady to turn your ideas into games a
 nd animations? In Code Quest\, campers will dive into the world of coding 
 using Scratch\, a fun and colourful programming platform where you can mak
 e characters move\, talk\, and interact.\n\nBy snapping together simple co
 ding blocks\, campers will learn how to animate characters\, design games\
 , add sound effects\, and build interactive stories. Along the way they’
 ll discover key coding concepts like sequences\, loops\, events\, and logi
 c—all while creating projects they can actually play!\n\nCampers will ge
 t to design their own characters\, invent game challenges\, and experiment
  with different ideas as they build their coding skills step by step.\n\nP
 ossible projects include:\n\n 	Create a simple maze game where players gui
 de a character to the goal\n 	Design a catch-the-object game with points a
 nd levels\n 	Animate a short cartoon or interactive story\n 	Build a dance
  party animation with music and moving characters\n 	Create a space advent
 ure game with enemies and scoring\n 	Make a virtual pet that responds to c
 licks\n 	Design a two-player racing or challenge game\n\nCampers will prac
 tice problem-solving\, creativity\, and computational thinking while disco
 vering that coding is not just about computers—it’s about building\, e
 xperimenting\, and bringing ideas to life. By the end of camp\, each campe
 r will have several playable projects and the skills to keep creating at h
 ome!\nYou are registering for  Code Quest: Create Your Own Game! \nWeek 2
 : July 6-July 10 Ages 6-9\n\n\nPlease Note in the form below if your child
  has any social\, emotional\, or academic challenges that could impact the
 ir chosen camp. If you answer "yes" or "maybe"\, WVL Staff will reach out 
 prior to the camp to discuss your child’s needs\, and arrange for an ons
 ite visit prior to the camp to assist in making it a successful camp for a
 ll.
LOCATION:WestView Learning\, 3248 Cowichan Valley Hwy\, Duncan\, BC\, Briti
 sh Columbia\, V9L 5Z4\, Canada
X-APPLE-STRUCTURED-LOCATION;VALUE=URI;X-ADDRESS=3248 Cowichan Valley Hwy\, 
 Duncan\, BC\, British Columbia\, V9L 5Z4\, Canada;X-APPLE-RADIUS=100;X-TIT
 LE=WestView Learning:geo:0,0
END:VEVENT
BEGIN:VTIMEZONE
TZID:America/Vancouver
X-LIC-LOCATION:America/Vancouver
BEGIN:DAYLIGHT
DTSTART:20260308T030000
TZOFFSETFROM:-0800
TZOFFSETTO:-0700
TZNAME:PDT
END:DAYLIGHT
END:VTIMEZONE
END:VCALENDAR