BEGIN:VCALENDAR
VERSION:2.0
PRODID:-//wp-events-plugin.com//7.2.3.1//EN
TZID:America/Vancouver
X-WR-TIMEZONE:America/Vancouver
BEGIN:VEVENT
UID:84@westviewlearning.ca
DTSTART:20250324T090000Z
DTEND:20250328T150000Z
DTSTAMP:20250323T001157Z
URL:https://westviewlearning.ca/events/junior-coding-camp/
SUMMARY:JUNIOR CODING CAMP Ages 6-8
DESCRIPTION:\nAges 6-8 – Min 4 max 8 kids \n\n\n\nThis camp will include
  an introduction to Scratch\, Minecraft Education\, Java and Python. Parti
 cipants will learn the basics of block coding\, create their own games\, a
 nd participate in various challenges with fellow participants. Movement br
 eaks will include outdoor activities and games. \n\n\n\nMonday March 24 -
  28 2025- 9:00am – 3:00pm \n\n\n\n\n5/$275 Register for this course wit
 h WVL Directly\n\n\n\n3248 Cowichan Valley Highway\, Duncan \n\n
LOCATION:WestView Learning\, 3248 Cowichan Valley Hwy\, Duncan\, BC\, Briti
 sh Columbia\, V9L 5Z4\, Canada
X-APPLE-STRUCTURED-LOCATION;VALUE=URI;X-ADDRESS=3248 Cowichan Valley Hwy\, 
 Duncan\, BC\, British Columbia\, V9L 5Z4\, Canada;X-APPLE-RADIUS=100;X-TIT
 LE=WestView Learning:geo:0,0
END:VEVENT
END:VCALENDAR