BEGIN:VCALENDAR
VERSION:2.0
PRODID:-//wp-events-plugin.com//7.2.3.1//EN
TZID:America/Vancouver
X-WR-TIMEZONE:America/Vancouver
BEGIN:VEVENT
UID:167@westviewlearning.ca
DTSTART;TZID=America/Vancouver:20260810T090000
DTEND;TZID=America/Vancouver:20260814T150000
DTSTAMP:20260317T022744Z
URL:https://westviewlearning.ca/events/lego-build-create-a-brick-tastic-ad
 venture-week-6-august-10-aug-14-ages-6-9/
SUMMARY:Lego Build & Create - A 'Brick-Tastic' Adventure! Week 6:  August 
 10-Aug 14 Ages 6-9
DESCRIPTION: Get Ready For A 'Brick-Tastic' Adventure! 🧱✨\nCost: $350
 \nDates:\nWeek 6:  August 10-Aug 14 Ages 6-9\nJoin us for an exciting LEG
 O Camp where creativity comes to life one brick at a time. Campers will sp
 end the day building amazing LEGO creations\, taking on fun LEGO-themed ch
 allenges and games\, and making awesome crafts inspired by their favorite 
 bricks.\n\nFrom teamwork building challenges to imaginative free-build tim
 e\, every moment is packed with hands-on fun\, creativity\, and laughter. 
 Whether you're constructing towering castles\, speedy race cars\, or wild 
 inventions\, there’s no limit to what you can build!\n\nCome ready to cr
 eate\, play\, and build new friendships at this fun-filled LEGO adventure!
 \nYou are registering for Lego Build &amp\; Create - A 'Brick-Tastic' Adve
 nture! \nWeek 6:  August 10-Aug 14 Ages 6-9\n\n\nPlease Note in the form 
 below if your child has any social\, emotional\, or academic challenges th
 at could impact their chosen camp. If you answer "yes" or "maybe"\, WVL St
 aff will reach out prior to the camp to discuss your child’s needs\, and
  arrange for an onsite visit prior to the camp to assist in making it a su
 ccessful camp for all.\n\n
LOCATION:WestView Learning\, 3248 Cowichan Valley Hwy\, Duncan\, BC\, Briti
 sh Columbia\, V9L 5Z4\, Canada
X-APPLE-STRUCTURED-LOCATION;VALUE=URI;X-ADDRESS=3248 Cowichan Valley Hwy\, 
 Duncan\, BC\, British Columbia\, V9L 5Z4\, Canada;X-APPLE-RADIUS=100;X-TIT
 LE=WestView Learning:geo:0,0
END:VEVENT
BEGIN:VTIMEZONE
TZID:America/Vancouver
X-LIC-LOCATION:America/Vancouver
BEGIN:DAYLIGHT
DTSTART:20260308T030000
TZOFFSETFROM:-0800
TZOFFSETTO:-0700
TZNAME:PDT
END:DAYLIGHT
END:VTIMEZONE
END:VCALENDAR