BEGIN:VCALENDAR
VERSION:2.0
PRODID:-//wp-events-plugin.com//7.2.3.1//EN
TZID:America/Vancouver
X-WR-TIMEZONE:America/Vancouver
BEGIN:VEVENT
UID:169@westviewlearning.ca
DTSTART;TZID=America/Vancouver:20260506T151500
DTEND;TZID=America/Vancouver:20260610T051500
DTSTAMP:20260319T184323Z
URL:https://westviewlearning.ca/events/robotics-vex-and-lego-spike/
SUMMARY:Robotics - Vex and Lego Spike
DESCRIPTION:Title: Robotics - Vex and Lego Spike\n\nDates: May 6\, 13\, 20\
 , 27\, June 3\, 10\n\nCost: $240\n\nBuild\, code\, and compete at Robotics
  Adventure Camp! Participants will dive into the exciting world of robotic
 s using VEX IQ and LEGO SPIKE robots\, learning how to design\, program\, 
 and control their own creations.
LOCATION:WestView Learning\, 3248 Cowichan Valley Hwy\, Duncan\, BC\, Briti
 sh Columbia\, V9L 5Z4\, Canada
X-APPLE-STRUCTURED-LOCATION;VALUE=URI;X-ADDRESS=3248 Cowichan Valley Hwy\, 
 Duncan\, BC\, British Columbia\, V9L 5Z4\, Canada;X-APPLE-RADIUS=100;X-TIT
 LE=WestView Learning:geo:0,0
END:VEVENT
BEGIN:VTIMEZONE
TZID:America/Vancouver
X-LIC-LOCATION:America/Vancouver
BEGIN:DAYLIGHT
DTSTART:20260308T030000
TZOFFSETFROM:-0800
TZOFFSETTO:-0700
TZNAME:PDT
END:DAYLIGHT
END:VTIMEZONE
END:VCALENDAR