BEGIN:VCALENDAR
VERSION:2.0
PRODID:-//wp-events-plugin.com//7.2.3.1//EN
TZID:America/Vancouver
X-WR-TIMEZONE:America/Vancouver
BEGIN:VEVENT
UID:151@westviewlearning.ca
DTSTART;TZID=America/Vancouver:20260629T090000
DTEND;TZID=America/Vancouver:20260703T150000
DTSTAMP:20260317T023159Z
URL:https://westviewlearning.ca/events/week1-everything-minecraft-camp/
SUMMARY:Everything Minecraft Camp Week 1 Ages 6-9
DESCRIPTION:Title: Everything Minecraft Camp ⛏️🟩\nCost: $280\nDates:
  \nWeek 1: June 29-July 3 (4 day week - no class Wednesday\, July 1)\nCal
 ling all Minecraft fans! Get ready for a block-building adventure where th
 e world of Minecraft comes to life beyond the screen. At Everything Minecr
 aft Camp\, campers will dive into a day packed with creative building\, ga
 mes\, and pixel-powered fun.\n\nBuild your favorite characters\, mobs\, an
 d worlds using Minecraft LEGO\, explore the basics of Minecraft-inspired c
 oding and block coding\, and bring your imagination to life with Minecraft
  colouring sheets and crafts. Campers will also take part in exciting them
 ed games and challenges that test their creativity\, teamwork\, and proble
 m-solving skills.\n\nWhether you love building epic structures\, exploring
  new worlds\, or learning how games work behind the scenes\, this camp is 
 full of adventure\, creativity\, and Minecraft magic.\n\nSo grab your pick
 axe and get ready to build\, code\, create\, and play at Everything Minecr
 aft Camp!\nYou are registering in...Everything MineCraft \nWeek 1: June 29
 -July 3 (4 day week - no class Wednesday\, July 1)\n\n\nPlease Note in the
  form below if your child has any social\, emotional\, or academic challen
 ges that could impact their chosen camp. If you answer "yes" or "maybe"\, 
 WVL Staff will reach out prior to the camp to discuss your child’s needs
 \, and arrange for an onsite visit prior to the camp to assist in making i
 t a successful camp for all.\n
LOCATION:WestView Learning\, 3248 Cowichan Valley Hwy\, Duncan\, BC\, Briti
 sh Columbia\, V9L 5Z4\, Canada
X-APPLE-STRUCTURED-LOCATION;VALUE=URI;X-ADDRESS=3248 Cowichan Valley Hwy\, 
 Duncan\, BC\, British Columbia\, V9L 5Z4\, Canada;X-APPLE-RADIUS=100;X-TIT
 LE=WestView Learning:geo:0,0
END:VEVENT
BEGIN:VTIMEZONE
TZID:America/Vancouver
X-LIC-LOCATION:America/Vancouver
BEGIN:DAYLIGHT
DTSTART:20260308T030000
TZOFFSETFROM:-0800
TZOFFSETTO:-0700
TZNAME:PDT
END:DAYLIGHT
END:VTIMEZONE
END:VCALENDAR