BEGIN:VCALENDAR
VERSION:2.0
PRODID:-//wp-events-plugin.com//7.2.3.1//EN
TZID:America/Vancouver
X-WR-TIMEZONE:America/Vancouver
BEGIN:VEVENT
UID:155@westviewlearning.ca
DTSTART;TZID=America/Vancouver:20260629T090000
DTEND;TZID=America/Vancouver:20260703T150000
DTSTAMP:20260323T231816Z
URL:https://westviewlearning.ca/events/week1-kitchen-capers/
SUMMARY:Kitchen Capers Week 1 June 29-July 3 Ages 6-9
DESCRIPTION:Title: Welcome to Cooking Camp – Garden to Table! 🌱🍅
 👩‍🍳\nCost: $320\nDates:\nWeek 1: June 29-July 3 Ages 6-9 (4 day we
 ek - no class Wednesday\, July 1)\nGet ready to roll up your sleeves and d
 ive into a delicious hands-on cooking adventure! At Cooking Camp\, campers
  will explore the journey from garden to table by picking fresh vegetables
  straight from our own garden and turning them into tasty creations in the
  kitchen.\n\nAlong the way\, campers will learn essential kitchen skills\,
  discover fun dinner ideas they can make at home\, and whip up delicious t
 reats to share. From chopping and mixing to baking and plating\, every day
  is packed with flavor and creativity.\n\nIf you love food\, creativity\, 
 and trying new recipes\, this camp is the perfect recipe for a fun-filled 
 experience! 🍓🥕🥪\nYou are registering for Kitchen Capers Week 1: J
 une 29-July 3 Ages 6-9 (4 day week - no class Wednesday\, July 1)\n\n\nPle
 ase Note in the form below if your child has any social\, emotional\, or a
 cademic challenges that could impact their chosen camp. If you answer "yes
 " or "maybe"\, WVL Staff will reach out prior to the camp to discuss your 
 child’s needs\, and arrange for an onsite visit prior to the camp to ass
 ist in making it a successful camp for all.\n
LOCATION:WestView Learning\, 3248 Cowichan Valley Hwy\, Duncan\, BC\, Briti
 sh Columbia\, V9L 5Z4\, Canada
X-APPLE-STRUCTURED-LOCATION;VALUE=URI;X-ADDRESS=3248 Cowichan Valley Hwy\, 
 Duncan\, BC\, British Columbia\, V9L 5Z4\, Canada;X-APPLE-RADIUS=100;X-TIT
 LE=WestView Learning:geo:0,0
END:VEVENT
BEGIN:VTIMEZONE
TZID:America/Vancouver
X-LIC-LOCATION:America/Vancouver
BEGIN:DAYLIGHT
DTSTART:20260308T030000
TZOFFSETFROM:-0800
TZOFFSETTO:-0700
TZNAME:PDT
END:DAYLIGHT
END:VTIMEZONE
END:VCALENDAR