BEGIN:VCALENDAR
VERSION:2.0
PRODID:-//wp-events-plugin.com//7.2.3.1//EN
TZID:America/Vancouver
X-WR-TIMEZONE:America/Vancouver
BEGIN:VEVENT
UID:162@westviewlearning.ca
DTSTART;TZID=America/Vancouver:20260629T090000
DTEND;TZID=America/Vancouver:20260703T150000
DTSTAMP:20260323T231847Z
URL:https://westviewlearning.ca/events/week1-robotics-lego-spike-and-vex-a
 dventure-camp/
SUMMARY:Robotics: Lego Spike and Vex Adventure Camp Week 1 June 29-July 3 A
 ges 9-14
DESCRIPTION:Title: Welcome to Robotics: Lego Spike and Vex Adventure Camp 
 🤖⚡\nCost: $360\nDates:\nWeek 1: June 29-July 3 Ages 9-14 (4 day week 
 - no class Wednesday\, July 1)\nGet ready to build\, code\, and compete at
  Robotics Adventure Camp! Campers will dive into the exciting world of rob
 otics using VEX IQ and LEGO SPIKE robots\, learning how to design\, progra
 m\, and control their own creations.\n\nFrom building clever robots to sol
 ving engineering challenges and testing them in fun competitions\, every d
 ay is packed with hands-on STEM fun. Campers will practice coding\, proble
 m-solving\, teamwork\, and creativity as they bring their robots to life.\
 n\nWhether your child wants to race\, navigate obstacle courses\, or creat
 e robot inventions\, Robotics Adventure Camp is the perfect place to explo
 re technology\, build skills\, and have a blast with robots! 🤖🏆\nYou
  are registering for Robotics: Lego Spike and Vex Adventure Camp\nWeek 1: 
 June 29-July 3 Ages 9-14 (4 day week - no class Wednesday\, July 1)\n\n\nP
 lease Note in the form below if your child has any social\, emotional\, or
  academic challenges that could impact their chosen camp. If you answer "y
 es" or "maybe"\, WVL Staff will reach out prior to the camp to discuss you
 r child’s needs\, and arrange for an onsite visit prior to the camp to a
 ssist in making it a successful camp for all.
LOCATION:WestView Learning\, 3248 Cowichan Valley Hwy\, Duncan\, BC\, Briti
 sh Columbia\, V9L 5Z4\, Canada
X-APPLE-STRUCTURED-LOCATION;VALUE=URI;X-ADDRESS=3248 Cowichan Valley Hwy\, 
 Duncan\, BC\, British Columbia\, V9L 5Z4\, Canada;X-APPLE-RADIUS=100;X-TIT
 LE=WestView Learning:geo:0,0
END:VEVENT
BEGIN:VTIMEZONE
TZID:America/Vancouver
X-LIC-LOCATION:America/Vancouver
BEGIN:DAYLIGHT
DTSTART:20260308T030000
TZOFFSETFROM:-0800
TZOFFSETTO:-0700
TZNAME:PDT
END:DAYLIGHT
END:VTIMEZONE
END:VCALENDAR