BEGIN:VCALENDAR
VERSION:2.0
PRODID:-//wp-events-plugin.com//7.2.3.1//EN
TZID:America/Vancouver
X-WR-TIMEZONE:America/Vancouver
BEGIN:VEVENT
UID:153@westviewlearning.ca
DTSTART;TZID=America/Vancouver:20260629T090000
DTEND;TZID=America/Vancouver:20260703T150000
DTSTAMP:20260317T022558Z
URL:https://westviewlearning.ca/events/week1-sewing-craft-camps/
SUMMARY:Sewing & Craft Camps Week 1 June 29-July 3 Age 8-14
DESCRIPTION:Title: Sewing for Fun Camp ✂️🧵\nCost:  $320\nDates:\nWe
 ek 1: June 29-July 3 Age 8-14 (4 day week - no class Wednesday\, July 1)\n
 Get ready to stitch\, create\, and have a blast at Sewing for Fun Camp! Ca
 mpers will explore the exciting world of sewing\, learning basic hand and 
 machine sewing techniques while making fun projects they can take home.\n\
 nFrom stuffed animals\, fabric bookmarks\, and colorful pillowcases to wea
 rable accessories and decorative crafts\, every day is packed with hands-o
 n creativity\, bright fabrics\, and lots of smiles. Campers will practice 
 patience\, precision\, and problem-solving while expressing their unique s
 tyle and imagination.\n\nWhether your child is a beginner or ready to try 
 new sewing skills\, this camp turns simple stitches into amazing creations
 ! 🧵✨\nYou are registering for Sewing &amp\; Craft Camps \nWeek 1: Ju
 ne 29-July 3 Age 8-14 (4 day week - no class Wednesday\, July 1)\n\n\nPlea
 se Note in the form below if your child has any social\, emotional\, or ac
 ademic challenges that could impact their chosen camp. If you answer "yes"
  or "maybe"\, WVL Staff will reach out prior to the camp to discuss your c
 hild’s needs\, and arrange for an onsite visit prior to the camp to assi
 st in making it a successful camp for all.
LOCATION:WestView Learning\, 3248 Cowichan Valley Hwy\, Duncan\, BC\, Briti
 sh Columbia\, V9L 5Z4\, Canada
X-APPLE-STRUCTURED-LOCATION;VALUE=URI;X-ADDRESS=3248 Cowichan Valley Hwy\, 
 Duncan\, BC\, British Columbia\, V9L 5Z4\, Canada;X-APPLE-RADIUS=100;X-TIT
 LE=WestView Learning:geo:0,0
END:VEVENT
BEGIN:VTIMEZONE
TZID:America/Vancouver
X-LIC-LOCATION:America/Vancouver
BEGIN:DAYLIGHT
DTSTART:20260308T030000
TZOFFSETFROM:-0800
TZOFFSETTO:-0700
TZNAME:PDT
END:DAYLIGHT
END:VTIMEZONE
END:VCALENDAR