BEGIN:VCALENDAR
VERSION:2.0
PRODID:-//wp-events-plugin.com//7.2.3.1//EN
TZID:America/Vancouver
X-WR-TIMEZONE:America/Vancouver
BEGIN:VEVENT
UID:160@westviewlearning.ca
DTSTART;TZID=America/Vancouver:20260629T090000
DTEND;TZID=America/Vancouver:20260703T150000
DTSTAMP:20260401T193532Z
URL:https://westviewlearning.ca/events/week1-stop-motion-animation/
SUMMARY:Stop Motion Animation Camp Week 1 Ages  8-14
DESCRIPTION:Title: Stop Motion Animation Camp 🎬🎨\nCost: $320 (4 day c
 ost)\nDates: Week 1:  June 29-July 3 (no class July 1)\nPlease Note in th
 e form below if your child has any social\, emotional\, academic challenge
 s.  WVL Staff will reach out prior to the camp to discuss your child's ne
 eds\, and arrange for an onsite visit prior to the camp to assist in makin
 g it a successful camp for all.\nLights\, camera\, action! At Stop Motion 
 Animation Camp\, campers will bring objects\, toys\, and drawings to life 
 using stop-motion techniques. From storyboarding and set design to moving 
 characters frame by frame\, every step is a creative adventure in storytel
 ling.\n\nCampers will learn how to plan scenes\, capture smooth motion\, a
 dd sound effects\, and edit their animations to create short films they ca
 n proudly share. Whether using clay\, LEGO\, puppets\, or everyday objects
 \, every day is packed with hands-on creativity\, problem-solving\, and im
 agination in motion.\n\nBy the end of camp\, campers will have their very 
 own animated mini-movies and the skills to continue exploring the magical 
 world of stop-motion storytelling at home. ✂️🖌️🎥\n\n 	Fun add-
 ons could include:\n 	LEGO or clay character creation\n 	Set and backgroun
 d building\n 	Sound effects and voice acting\n 	Collaborative animation ch
 allenges\n 	Mini film festival to showcase creations\n\nStop-motion camp i
 s perfect for kids who love storytelling\, building\, and watching their i
 deas come alive on screen! 🌟\nYou are registering for Stop Motion \nWee
 k 1:  June 29-July 3 (no class July 1)\n\n\nPlease Note in the form below
  if your child has any social\, emotional\, or academic challenges that co
 uld impact their chosen camp. If you answer "yes" or "maybe"\, WVL Staff w
 ill reach out prior to the camp to discuss your child’s needs\, and arra
 nge for an onsite visit prior to the camp to assist in making it a success
 ful camp for all.
LOCATION:WestView Learning\, 3248 Cowichan Valley Hwy\, Duncan\, BC\, Briti
 sh Columbia\, V9L 5Z4\, Canada
X-APPLE-STRUCTURED-LOCATION;VALUE=URI;X-ADDRESS=3248 Cowichan Valley Hwy\, 
 Duncan\, BC\, British Columbia\, V9L 5Z4\, Canada;X-APPLE-RADIUS=100;X-TIT
 LE=WestView Learning:geo:0,0
END:VEVENT
BEGIN:VTIMEZONE
TZID:America/Vancouver
X-LIC-LOCATION:America/Vancouver
BEGIN:DAYLIGHT
DTSTART:20260308T030000
TZOFFSETFROM:-0800
TZOFFSETTO:-0700
TZNAME:PDT
END:DAYLIGHT
END:VTIMEZONE
END:VCALENDAR