BEGIN:VCALENDAR
VERSION:2.0
PRODID:-//wp-events-plugin.com//7.2.3.1//EN
TZID:America/Vancouver
X-WR-TIMEZONE:America/Vancouver
BEGIN:VEVENT
UID:138@westviewlearning.ca
DTSTART;TZID=America/Vancouver:20260706T090000
DTEND;TZID=America/Vancouver:20260710T150000
DTSTAMP:20260401T194148Z
URL:https://westviewlearning.ca/events/week2-animation-digital-art-camp/
SUMMARY:Animation & Digital Art Camp Week 2 July 6-10
DESCRIPTION:Title:  Animation &amp\; Digital Art Camp 🎨💻\nCost: $450
 \nDates:  Week 2 July 6-July 10\nBring your imagination to life at Animat
 ion &amp\; Digital Art Camp! Campers will explore the exciting world of di
 gital creativity\, learning how to create animations\, characters\, and st
 ories use media such as:\n\n 	old fashion flip books\n 	iPad illustration 
 apps like Sketchbook\, Ibis Paint\, Procreate\, Adobe Illustration\n 	iPad
 s animation apps like Animation Creator HS\, Procreate Dreams (even Stop M
 otion Studio Pro)\n 	computer animation apps  like Adobe's  Animate\, Af
 ter Effects\, Character Animator\n\nFrom drawing and designing characters 
 to bringing them to life with movement and effects\, every day is packed w
 ith hands-on digital art fun. Campers will learn key animation techniques\
 , experiment with storyboarding\, motion\, and visual effects\, and create
  their own short animations or digital art projects to share.\n\nWhether y
 ou dream of making cartoons\, animated games\, or digital illustrations\, 
 this camp is perfect for kids ready to explore their creativity\, develop 
 new skills\, and have a blast in the world of animation! 🖌️✨\n\nFun
  add-ons could include:\n\n 	Character design challenges\n 	Storyboarding 
 exercises\n 	Animation game jams\n 	Digital illustration mini-projects\n 	
 Collaborative short films\n\nIt’s art\, tech\, and storytelling all roll
 ed into one creative adventure! 🎬🖌️\nYou are registering for Anima
 tion &amp\; Digital Art \nWeek 2 July 6-July 10\n\n\nPlease Note in the fo
 rm below if your child has any social\, emotional\, or academic challenges
  that could impact their chosen camp. If you answer "yes" or "maybe"\, WVL
  Staff will reach out prior to the camp to discuss your child’s needs\, 
 and arrange for an onsite visit prior to the camp to assist in making it a
  successful camp for all.\n
LOCATION:WestView Learning\, 3248 Cowichan Valley Hwy\, Duncan\, BC\, Briti
 sh Columbia\, V9L 5Z4\, Canada
X-APPLE-STRUCTURED-LOCATION;VALUE=URI;X-ADDRESS=3248 Cowichan Valley Hwy\, 
 Duncan\, BC\, British Columbia\, V9L 5Z4\, Canada;X-APPLE-RADIUS=100;X-TIT
 LE=WestView Learning:geo:0,0
END:VEVENT
BEGIN:VTIMEZONE
TZID:America/Vancouver
X-LIC-LOCATION:America/Vancouver
BEGIN:DAYLIGHT
DTSTART:20260308T030000
TZOFFSETFROM:-0800
TZOFFSETTO:-0700
TZNAME:PDT
END:DAYLIGHT
END:VTIMEZONE
END:VCALENDAR