BEGIN:VCALENDAR
VERSION:2.0
PRODID:-//wp-events-plugin.com//7.2.3.1//EN
TZID:America/Vancouver
X-WR-TIMEZONE:America/Vancouver
BEGIN:VEVENT
UID:141@westviewlearning.ca
DTSTART;TZID=America/Vancouver:20260706T090000
DTEND;TZID=America/Vancouver:20260710T150000
DTSTAMP:20260317T022901Z
URL:https://westviewlearning.ca/events/week2-circuit-camp/
SUMMARY:Circuit Camp: Spark\, Spin & Shine! Week 2 Ages 10-16
DESCRIPTION:Title: Circuit Camp: Spark\, Spin &amp\; Shine!\nCost: $400\nDa
 te(s): \nWeek 2:  July 6-July 10 - Ages 10-16\nGet ready to build\, tinke
 r\, and power up! In this hands-on Circuit Camp\, young inventors will exp
 lore the exciting world of electricity using breadboards\, LED lights\, mo
 tors\, switches\, wires\, and mircocontroller development boards such as m
 icro:bits and arduinos. Campers will learn how circuits work by experiment
 ing\, problem-solving\, and bringing their creations to life with light\, 
 motion\, and sound.\n\nInstead of just learning about electricity\, camper
 s will become real inventors\, testing ideas\, figuring out how things con
 nect\, and discovering what happens when a circuit is complete (or when so
 mething needs fixing!). Along the way they’ll learn the basics of conduc
 tors\, switches\, polarity\, and simple circuit design in a fun\, approach
 able way.\n\nPossible projects include:\n\n 	Build a light-up LED badge or
  name sign\n 	Create a spinning motor fan or mini propeller machine\n 	Des
 ign a switch-powered flashlight\n 	Make a light-up creature or robot\n 	Bu
 ild a buzzing game or simple alarm circuit\n 	Create a tiny moving car pow
 ered by a motor\n 	Invent a light-up greeting card or artwork\n 	Program t
 heir own invention\n\nCampers will explore how electricity can light thing
 s up\, make things spin\, and power inventions\, all while developing crea
 tivity\, curiosity\, and engineering skills. By the end of the camp\, they
 ’ll have built several working projects and gained the confidence to kee
 p inventing and experimenting long after camp ends!\nYou are registering f
 or Circuit Camp: Spark\, Spin &amp\; Shine!  \nWeek 2:  July 6-July 10 -
  Ages 10-16\n\n\nPlease Note in the form below if your child has any socia
 l\, emotional\, or academic challenges that could impact their chosen camp
 . If you answer "yes" or "maybe"\, WVL Staff will reach out prior to the c
 amp to discuss your child’s needs\, and arrange for an onsite visit prio
 r to the camp to assist in making it a successful camp for all.
LOCATION:WestView Learning\, 3248 Cowichan Valley Hwy\, Duncan\, BC\, Briti
 sh Columbia\, V9L 5Z4\, Canada
X-APPLE-STRUCTURED-LOCATION;VALUE=URI;X-ADDRESS=3248 Cowichan Valley Hwy\, 
 Duncan\, BC\, British Columbia\, V9L 5Z4\, Canada;X-APPLE-RADIUS=100;X-TIT
 LE=WestView Learning:geo:0,0
END:VEVENT
BEGIN:VTIMEZONE
TZID:America/Vancouver
X-LIC-LOCATION:America/Vancouver
BEGIN:DAYLIGHT
DTSTART:20260308T030000
TZOFFSETFROM:-0800
TZOFFSETTO:-0700
TZNAME:PDT
END:DAYLIGHT
END:VTIMEZONE
END:VCALENDAR