BEGIN:VCALENDAR
VERSION:2.0
PRODID:-//wp-events-plugin.com//7.2.3.1//EN
TZID:America/Vancouver
X-WR-TIMEZONE:America/Vancouver
BEGIN:VEVENT
UID:156@westviewlearning.ca
DTSTART;TZID=America/Vancouver:20260706T090000
DTEND;TZID=America/Vancouver:20260710T150000
DTSTAMP:20260410T042417Z
URL:https://westviewlearning.ca/events/week2-kitchen-capers/
SUMMARY:Kitchen Capers Week 2: July 6-July 10 Ages 10-14
DESCRIPTION:Title: Welcome to Cooking Camp – Garden to Table! 🌱🍅
 👩‍🍳\nCost: $400\nDates:\nWeek 2: July 6-July 10 Ages 10-14  - THI
 S CAMP IS FULL\nGet ready to roll up your sleeves and dive into a deliciou
 s hands-on cooking adventure! At Cooking Camp\, campers will explore the j
 ourney from garden to table by picking fresh vegetables straight from our 
 own garden and turning them into tasty creations in the kitchen.\n\nAlong 
 the way\, campers will learn essential kitchen skills\, discover fun dinne
 r ideas they can make at home\, and whip up delicious treats to share. Fro
 m chopping and mixing to baking and plating\, every day is packed with fla
 vor and creativity.\n\nIf you love food\, creativity\, and trying new reci
 pes\, this camp is the perfect recipe for a fun-filled experience! 🍓
 🥕🥪\nYou are registering for Kitchen Capers Week 2: July 6-July 10 Ag
 es 10-14\n\n\nPlease Note in the form below if your child has any social\,
  emotional\, or academic challenges that could impact their chosen camp. I
 f you answer "yes" or "maybe"\, WVL Staff will reach out prior to the camp
  to discuss your child’s needs\, and arrange for an onsite visit prior t
 o the camp to assist in making it a successful camp for all.\n
LOCATION:WestView Learning\, 3248 Cowichan Valley Hwy\, Duncan\, BC\, Briti
 sh Columbia\, V9L 5Z4\, Canada
X-APPLE-STRUCTURED-LOCATION;VALUE=URI;X-ADDRESS=3248 Cowichan Valley Hwy\, 
 Duncan\, BC\, British Columbia\, V9L 5Z4\, Canada;X-APPLE-RADIUS=100;X-TIT
 LE=WestView Learning:geo:0,0
END:VEVENT
BEGIN:VTIMEZONE
TZID:America/Vancouver
X-LIC-LOCATION:America/Vancouver
BEGIN:DAYLIGHT
DTSTART:20260308T030000
TZOFFSETFROM:-0800
TZOFFSETTO:-0700
TZNAME:PDT
END:DAYLIGHT
END:VTIMEZONE
END:VCALENDAR