BEGIN:VCALENDAR
VERSION:2.0
PRODID:-//wp-events-plugin.com//7.2.3.1//EN
TZID:America/Vancouver
X-WR-TIMEZONE:America/Vancouver
BEGIN:VEVENT
UID:164@westviewlearning.ca
DTSTART;TZID=America/Vancouver:20260706T090000
DTEND;TZID=America/Vancouver:20260710T150000
DTSTAMP:20260401T194015Z
URL:https://westviewlearning.ca/events/week2-squish-sculpt-sparkle-3d-art/
SUMMARY:Squish\, Sculpt & Sparkle! 3D Art Camp Ages 8-14
DESCRIPTION:Date:  Week 2:  July 6-July 10\nIn this hands-on 3D Art Camp\
 , young artists will explore the exciting world of sculpture using colourf
 ul materials like Fimo clay\, foam clay\, and mosaic tiles. Instead of dra
 wing on paper\, we’ll bring ideas to life in three dimensions!\nArtists 
 will learn simple sculpting techniques\, experiment with texture and color
 \, and turn their imaginations into playful creations. Each day will featu
 re a new project where campers can design\, shape\, and decorate their own
  unique artwork.\n\nPossible projects include:\n\n 	Cute Fimo clay creatur
 es or mini animals\n 	Tiny food charms or miniature sculptures\n 	Foam cla
 y monsters or fantasy characters\n 	Decorated mosaic tile picture frames o
 r coasters\n 	A colourful tile mosaic artwork\n 	Mini sculpted gardens or 
 fantasy worlds\n 	Personalized name plaques or trinket boxes\n\nCampers wi
 ll practice creativity\, patience\, and problem-solving while having tons 
 of messy\, imaginative fun. By the end of the week\, they’ll take home a
  collection of bright\, textured 3D masterpieces to show off!\nYou are reg
 istering for Squish\, Sculpt &amp\; Sparkle! 3D Art Camp \nWeek 2:  July
  6-July 10 - Ages 8-14\n\n\nPlease Note in the form below if your child ha
 s any social\, emotional\, or academic challenges that could impact their 
 chosen camp. If you answer "yes" or "maybe"\, WVL Staff will reach out pri
 or to the camp to discuss your child’s needs\, and arrange for an onsite
  visit prior to the camp to assist in making it a successful camp for all.
LOCATION:WestView Learning\, 3248 Cowichan Valley Hwy\, Duncan\, BC\, Briti
 sh Columbia\, V9L 5Z4\, Canada
X-APPLE-STRUCTURED-LOCATION;VALUE=URI;X-ADDRESS=3248 Cowichan Valley Hwy\, 
 Duncan\, BC\, British Columbia\, V9L 5Z4\, Canada;X-APPLE-RADIUS=100;X-TIT
 LE=WestView Learning:geo:0,0
END:VEVENT
BEGIN:VTIMEZONE
TZID:America/Vancouver
X-LIC-LOCATION:America/Vancouver
BEGIN:DAYLIGHT
DTSTART:20260308T030000
TZOFFSETFROM:-0800
TZOFFSETTO:-0700
TZNAME:PDT
END:DAYLIGHT
END:VTIMEZONE
END:VCALENDAR