BEGIN:VCALENDAR
VERSION:2.0
PRODID:-//wp-events-plugin.com//7.2.3.1//EN
TZID:America/Vancouver
X-WR-TIMEZONE:America/Vancouver
BEGIN:VEVENT
UID:148@westviewlearning.ca
DTSTART;TZID=America/Vancouver:20260713T090000
DTEND;TZID=America/Vancouver:20260717T150000
DTSTAMP:20260317T023012Z
URL:https://westviewlearning.ca/events/week3-code-create-python/
SUMMARY:Code & Create With Block Coding & Python Week 3 Ages 9-14
DESCRIPTION:Title:  Code &amp\; Create With Block Coding &amp\; Python 
 💻🖱️\nCost: $350\nDates: \nWeek 3: July 13 - July 17 Ages 9-14\nJu
 mp into the exciting world of coding at Code &amp\; Create Camp! Campers w
 ill explore block-based coding to build games\, animations\, and interacti
 ve projects\, and then step up to Python\, one of the world’s most popul
 ar programming languages.\n\nThrough fun\, hands-on projects\, campers wil
 l learn how to think like a coder\, solve problems\, and bring their ideas
  to life. From designing games and digital art with block coding to writin
 g Python scripts that make programs move\, this camp is packed with creati
 ve challenges\, teamwork\, and coding fun.\n\nWhether it’s making a game
 \, building a digital story\, or programming a robot\, campers will develo
 p skills in logic\, computational thinking\, and creativity—all while ha
 ving a blast exploring the world of technology.\n\nPerfect for beginners o
 r budding coders\, Code &amp\; Create Camp turns imagination into interact
 ive projects! 🖥️🎮\nYou are registering for  Code &amp\; Create Wi
 th Block Coding &amp\; Python \nWeek 3: July 13 - July 17 Ages 9-14\n\n\nP
 lease Note in the form below if your child has any social\, emotional\, or
  academic challenges that could impact their chosen camp. If you answer "y
 es" or "maybe"\, WVL Staff will reach out prior to the camp to discuss you
 r child’s needs\, and arrange for an onsite visit prior to the camp to a
 ssist in making it a successful camp for all.
LOCATION:WestView Learning\, 3248 Cowichan Valley Hwy\, Duncan\, BC\, Briti
 sh Columbia\, V9L 5Z4\, Canada
X-APPLE-STRUCTURED-LOCATION;VALUE=URI;X-ADDRESS=3248 Cowichan Valley Hwy\, 
 Duncan\, BC\, British Columbia\, V9L 5Z4\, Canada;X-APPLE-RADIUS=100;X-TIT
 LE=WestView Learning:geo:0,0
END:VEVENT
BEGIN:VTIMEZONE
TZID:America/Vancouver
X-LIC-LOCATION:America/Vancouver
BEGIN:DAYLIGHT
DTSTART:20260308T030000
TZOFFSETFROM:-0800
TZOFFSETTO:-0700
TZNAME:PDT
END:DAYLIGHT
END:VTIMEZONE
END:VCALENDAR