BEGIN:VCALENDAR
VERSION:2.0
PRODID:-//wp-events-plugin.com//7.2.3.1//EN
TZID:America/Vancouver
X-WR-TIMEZONE:America/Vancouver
BEGIN:VEVENT
UID:154@westviewlearning.ca
DTSTART;TZID=America/Vancouver:20260713T090000
DTEND;TZID=America/Vancouver:20260717T150000
DTSTAMP:20260401T194728Z
URL:https://westviewlearning.ca/events/week3-sewing-craft-camps/
SUMMARY:Sewing & Craft Camps Week 3 July 13-July 17 Age 10-14
DESCRIPTION:Title: Sewing for Fun Camp ✂️🧵\nCost:  $400\nDates:\nWe
 ek 3: July 13-July 17 Age 10-14\nGet ready to stitch\, create\, and have a
  blast at Sewing for Fun Camp! Campers will explore the exciting world of 
 sewing\, learning basic hand and machine sewing techniques while making fu
 n projects they can take home.\n\nFrom stuffed animals\, fabric bookmarks\
 , and colorful pillowcases to wearable accessories and decorative crafts\,
  every day is packed with hands-on creativity\, bright fabrics\, and lots 
 of smiles. Campers will practice patience\, precision\, and problem-solvin
 g while expressing their unique style and imagination.\n\nWhether your chi
 ld is a beginner or ready to try new sewing skills\, this camp turns simpl
 e stitches into amazing creations! 🧵✨\nYou are registering for Sewing
  &amp\; Craft Camps \nWeek 3: July 13-July 17 Age 10-14\n\n\nPlease Note 
 in the form below if your child has any social\, emotional\, or academic c
 hallenges that could impact their chosen camp. If you answer "yes" or "may
 be"\, WVL Staff will reach out prior to the camp to discuss your child’s
  needs\, and arrange for an onsite visit prior to the camp to assist in ma
 king it a successful camp for all.
LOCATION:WestView Learning\, 3248 Cowichan Valley Hwy\, Duncan\, BC\, Briti
 sh Columbia\, V9L 5Z4\, Canada
X-APPLE-STRUCTURED-LOCATION;VALUE=URI;X-ADDRESS=3248 Cowichan Valley Hwy\, 
 Duncan\, BC\, British Columbia\, V9L 5Z4\, Canada;X-APPLE-RADIUS=100;X-TIT
 LE=WestView Learning:geo:0,0
END:VEVENT
BEGIN:VTIMEZONE
TZID:America/Vancouver
X-LIC-LOCATION:America/Vancouver
BEGIN:DAYLIGHT
DTSTART:20260308T030000
TZOFFSETFROM:-0800
TZOFFSETTO:-0700
TZNAME:PDT
END:DAYLIGHT
END:VTIMEZONE
END:VCALENDAR