BEGIN:VCALENDAR
VERSION:2.0
PRODID:-//wp-events-plugin.com//7.2.3.1//EN
TZID:America/Vancouver
X-WR-TIMEZONE:America/Vancouver
BEGIN:VEVENT
UID:139@westviewlearning.ca
DTSTART;TZID=America/Vancouver:20260720T090000
DTEND;TZID=America/Vancouver:20260724T150000
DTSTAMP:20260317T023510Z
URL:https://westviewlearning.ca/events/week4-animation-digital-art-camp/
SUMMARY:Animation & Digital Art Camp Week 4 July 20 - 24
DESCRIPTION:Title:  Animation &amp\; Digital Art Camp 🎨💻\nCost: $450
 \nDate:  Week 4 July 20-24\nBring your imagination to life at Animation &
 amp\; Digital Art Camp! Campers will explore the exciting world of digital
  creativity\, learning how to create animations\, characters\, and stories
  use media such as:\n\n 	old fashion flip books\n 	iPad illustration apps 
 like Sketchbook\, Ibis Paint\, Procreate\, Adobe Illustration\n 	iPads ani
 mation apps like Animation Creator HS\, Procreate Dreams (even Stop Motion
  Studio Pro)\n 	computer animation apps  like Adobe's  Animate\, After E
 ffects\, Character Animator\n\nFrom drawing and designing characters to br
 inging them to life with movement and effects\, every day is packed with h
 ands-on digital art fun. Campers will learn key animation techniques\, exp
 eriment with storyboarding\, motion\, and visual effects\, and create thei
 r own short animations or digital art projects to share.\n\nWhether you dr
 eam of making cartoons\, animated games\, or digital illustrations\, this 
 camp is perfect for kids ready to explore their creativity\, develop new s
 kills\, and have a blast in the world of animation! 🖌️✨\n\nFun add-
 ons could include:\n\n 	Character design challenges\n 	Storyboarding exerc
 ises\n 	Animation game jams\n 	Digital illustration mini-projects\n 	Colla
 borative short films\n\nIt’s art\, tech\, and storytelling all rolled in
 to one creative adventure! 🎬🖌️\nYou are registering for Animation 
 &amp\; Digital Art \nWeek 4 July 20-July 24\n\nPlease Note in the form bel
 ow if your child has any social\, emotional\, or academic challenges that 
 could impact their chosen camp. If you answer "yes" or "maybe"\, WVL Staff
  will reach out prior to the camp to discuss your child’s needs\, and ar
 range for an onsite visit prior to the camp to assist in making it a succe
 ssful camp for all.
LOCATION:WestView Learning\, 3248 Cowichan Valley Hwy\, Duncan\, BC\, Briti
 sh Columbia\, V9L 5Z4\, Canada
X-APPLE-STRUCTURED-LOCATION;VALUE=URI;X-ADDRESS=3248 Cowichan Valley Hwy\, 
 Duncan\, BC\, British Columbia\, V9L 5Z4\, Canada;X-APPLE-RADIUS=100;X-TIT
 LE=WestView Learning:geo:0,0
END:VEVENT
BEGIN:VTIMEZONE
TZID:America/Vancouver
X-LIC-LOCATION:America/Vancouver
BEGIN:DAYLIGHT
DTSTART:20260308T030000
TZOFFSETFROM:-0800
TZOFFSETTO:-0700
TZNAME:PDT
END:DAYLIGHT
END:VTIMEZONE
END:VCALENDAR