BEGIN:VCALENDAR
VERSION:2.0
PRODID:-//wp-events-plugin.com//7.2.3.1//EN
TZID:America/Vancouver
X-WR-TIMEZONE:America/Vancouver
BEGIN:VEVENT
UID:150@westviewlearning.ca
DTSTART;TZID=America/Vancouver:20260720T090000
DTEND;TZID=America/Vancouver:20260724T150000
DTSTAMP:20260317T154755Z
URL:https://westviewlearning.ca/events/week4-everything-minecraft-camp/
SUMMARY:Everything Minecraft Camp Week 4 Ages 6-9
DESCRIPTION:Title: Everything Minecraft Camp ⛏️🟩\nCost: $350\nDates:
  \nWeek 4: July 20 - July 24\nCalling all Minecraft fans! Get ready for a
  block-building adventure where the world of Minecraft comes to life beyon
 d the screen. At Everything Minecraft Camp\, campers will dive into a day 
 packed with creative building\, games\, and pixel-powered fun.\n\nBuild yo
 ur favorite characters\, mobs\, and worlds using Minecraft LEGO\, explore 
 the basics of Minecraft-inspired coding and block coding\, and bring your 
 imagination to life with Minecraft colouring sheets and crafts. Campers wi
 ll also take part in exciting themed games and challenges that test their 
 creativity\, teamwork\, and problem-solving skills.\n\nWhether you love bu
 ilding epic structures\, exploring new worlds\, or learning how games work
  behind the scenes\, this camp is full of adventure\, creativity\, and Min
 ecraft magic.\n\nSo grab your pickaxe and get ready to build\, code\, crea
 te\, and play at Everything Minecraft Camp!\nYou are registering for Every
 thing Minecraft \nWeek 4: July 20 - July 24\n\n\nPlease Note in the form b
 elow if your child has any social\, emotional\, or academic challenges tha
 t could impact their chosen camp. If you answer "yes" or "maybe"\, WVL Sta
 ff will reach out prior to the camp to discuss your child’s needs\, and 
 arrange for an onsite visit prior to the camp to assist in making it a suc
 cessful camp for all.
LOCATION:WestView Learning\, 3248 Cowichan Valley Hwy\, Duncan\, BC\, Briti
 sh Columbia\, V9L 5Z4\, Canada
X-APPLE-STRUCTURED-LOCATION;VALUE=URI;X-ADDRESS=3248 Cowichan Valley Hwy\, 
 Duncan\, BC\, British Columbia\, V9L 5Z4\, Canada;X-APPLE-RADIUS=100;X-TIT
 LE=WestView Learning:geo:0,0
END:VEVENT
BEGIN:VTIMEZONE
TZID:America/Vancouver
X-LIC-LOCATION:America/Vancouver
BEGIN:DAYLIGHT
DTSTART:20260308T030000
TZOFFSETFROM:-0800
TZOFFSETTO:-0700
TZNAME:PDT
END:DAYLIGHT
END:VTIMEZONE
END:VCALENDAR