BEGIN:VCALENDAR
VERSION:2.0
PRODID:-//wp-events-plugin.com//7.2.3.1//EN
TZID:America/Vancouver
X-WR-TIMEZONE:America/Vancouver
BEGIN:VEVENT
UID:166@westviewlearning.ca
DTSTART;TZID=America/Vancouver:20260720T090000
DTEND;TZID=America/Vancouver:20260724T150000
DTSTAMP:20260323T231957Z
URL:https://westviewlearning.ca/events/week4-lego-build-brick-tastic/
SUMMARY:Lego Build & Create - A 'Brick-Tastic' Adventure! Week 4: July 20-J
 uly 24 Ages 6-9
DESCRIPTION: Get Ready For A 'Brick-Tastic' Adventure! 🧱✨\nCost: $350
 \nDates:\nWeek 4: July 20-July 24 Ages 6-9\nJoin us for an exciting LEGO C
 amp where creativity comes to life one brick at a time. Campers will spend
  the day building amazing LEGO creations\, taking on fun LEGO-themed chall
 enges and games\, and making awesome crafts inspired by their favorite bri
 cks.\n\nFrom teamwork building challenges to imaginative free-build time\,
  every moment is packed with hands-on fun\, creativity\, and laughter. Whe
 ther you're constructing towering castles\, speedy race cars\, or wild inv
 entions\, there’s no limit to what you can build!\n\nCome ready to creat
 e\, play\, and build new friendships at this fun-filled LEGO adventure!\nY
 ou are registering for Lego Build &amp\; Create - A 'Brick-Tastic' Adventu
 re! \nWeek 4: July 20-July 24 Ages 6-9\n\n\nPlease Note in the form below 
 if your child has any social\, emotional\, or academic challenges that cou
 ld impact their chosen camp. If you answer "yes" or "maybe"\, WVL Staff wi
 ll reach out prior to the camp to discuss your child’s needs\, and arran
 ge for an onsite visit prior to the camp to assist in making it a successf
 ul camp for all.\n\n
LOCATION:WestView Learning\, 3248 Cowichan Valley Hwy\, Duncan\, BC\, Briti
 sh Columbia\, V9L 5Z4\, Canada
X-APPLE-STRUCTURED-LOCATION;VALUE=URI;X-ADDRESS=3248 Cowichan Valley Hwy\, 
 Duncan\, BC\, British Columbia\, V9L 5Z4\, Canada;X-APPLE-RADIUS=100;X-TIT
 LE=WestView Learning:geo:0,0
END:VEVENT
BEGIN:VTIMEZONE
TZID:America/Vancouver
X-LIC-LOCATION:America/Vancouver
BEGIN:DAYLIGHT
DTSTART:20260308T030000
TZOFFSETFROM:-0800
TZOFFSETTO:-0700
TZNAME:PDT
END:DAYLIGHT
END:VTIMEZONE
END:VCALENDAR