BEGIN:VCALENDAR
VERSION:2.0
PRODID:-//wp-events-plugin.com//7.2.3.1//EN
TZID:America/Vancouver
X-WR-TIMEZONE:America/Vancouver
BEGIN:VEVENT
UID:157@westviewlearning.ca
DTSTART;TZID=America/Vancouver:20260727T090000
DTEND;TZID=America/Vancouver:20260731T150000
DTSTAMP:20260401T194917Z
URL:https://westviewlearning.ca/events/week5-kitchen-capers/
SUMMARY:Kitchen Capers Week 5: July 27-July 31 Ages 6-9
DESCRIPTION:Title: Welcome to Cooking Camp – Garden to Table! 🌱🍅
 👩‍🍳\nCost: $400\nDates:\nWeek 5: July 27-July 31 Ages 6-9\nGet rea
 dy to roll up your sleeves and dive into a delicious hands-on cooking adve
 nture! At Cooking Camp\, campers will explore the journey from garden to t
 able by picking fresh vegetables straight from our own garden and turning 
 them into tasty creations in the kitchen.\n\nAlong the way\, campers will 
 learn essential kitchen skills\, discover fun dinner ideas they can make a
 t home\, and whip up delicious treats to share. From chopping and mixing t
 o baking and plating\, every day is packed with flavor and creativity.\n\n
 If you love food\, creativity\, and trying new recipes\, this camp is the 
 perfect recipe for a fun-filled experience! 🍓🥕🥪\nYou are register
 ing for Kitchen Capers Week 5: July 27-July 31 Ages 6-9\n\n\nPlease Note i
 n the form below if your child has any social\, emotional\, or academic ch
 allenges that could impact their chosen camp. If you answer "yes" or "mayb
 e"\, WVL Staff will reach out prior to the camp to discuss your child’s 
 needs\, and arrange for an onsite visit prior to the camp to assist in mak
 ing it a successful camp for all.\n
LOCATION:WestView Learning\, 3248 Cowichan Valley Hwy\, Duncan\, BC\, Briti
 sh Columbia\, V9L 5Z4\, Canada
X-APPLE-STRUCTURED-LOCATION;VALUE=URI;X-ADDRESS=3248 Cowichan Valley Hwy\, 
 Duncan\, BC\, British Columbia\, V9L 5Z4\, Canada;X-APPLE-RADIUS=100;X-TIT
 LE=WestView Learning:geo:0,0
END:VEVENT
BEGIN:VTIMEZONE
TZID:America/Vancouver
X-LIC-LOCATION:America/Vancouver
BEGIN:DAYLIGHT
DTSTART:20260308T030000
TZOFFSETFROM:-0800
TZOFFSETTO:-0700
TZNAME:PDT
END:DAYLIGHT
END:VTIMEZONE
END:VCALENDAR