BEGIN:VCALENDAR
VERSION:2.0
PRODID:-//wp-events-plugin.com//7.2.3.1//EN
TZID:America/Vancouver
X-WR-TIMEZONE:America/Vancouver
BEGIN:VEVENT
UID:145@westviewlearning.ca
DTSTART;TZID=America/Vancouver:20260727T090000
DTEND;TZID=America/Vancouver:20260731T150000
DTSTAMP:20260401T195020Z
URL:https://westviewlearning.ca/events/week5christmas-in-july/
SUMMARY:Christmas in July Week 5 Ages 6-9
DESCRIPTION:Title: Christmas in July Craft Camp 🎄☀️\nCost: $400\nDat
 es:\nWeek 5: July 27 - July 31 Ages 6-9\nGet ready to celebrate the magic 
 of the holidays in the middle of summer! At Christmas in July Craft Camp\,
  campers will spend the day creating festive projects inspired by the most
  wonderful time of the year.\n\nUsing wool\, wood\, fabric\, and all kinds
  of fun craft materials\, campers will design and make their own holiday d
 ecorations\, handmade gifts\, and cozy winter-themed creations. They’ll 
 try simple sewing projects\, explore creative crafting techniques\, and bu
 ild unique keepsakes they can take home and even save for the holidays.\n\
 nFrom crafting ornaments and decorations to making festive art and cozy cr
 eations\, this camp is filled with creativity\, imagination\, and holiday 
 cheer—with a little summer sunshine mixed in!\nCome join the fun for a j
 olly\, creative\, and craft-filled day of Christmas magic in July! 🎁✂
 ️\n\n\nYou are registering for Week 5: July 27 - July 31 Ages 6-9\n\n\nP
 lease Note in the form below if your child has any social\, emotional\, or
  academic challenges that could impact their chosen camp. If you answer "y
 es" or "maybe"\, WVL Staff will reach out prior to the camp to discuss you
 r child’s needs\, and arrange for an onsite visit prior to the camp to a
 ssist in making it a successful camp for all.\n
LOCATION:WestView Learning\, 3248 Cowichan Valley Hwy\, Duncan\, BC\, Briti
 sh Columbia\, V9L 5Z4\, Canada
X-APPLE-STRUCTURED-LOCATION;VALUE=URI;X-ADDRESS=3248 Cowichan Valley Hwy\, 
 Duncan\, BC\, British Columbia\, V9L 5Z4\, Canada;X-APPLE-RADIUS=100;X-TIT
 LE=WestView Learning:geo:0,0
END:VEVENT
BEGIN:VTIMEZONE
TZID:America/Vancouver
X-LIC-LOCATION:America/Vancouver
BEGIN:DAYLIGHT
DTSTART:20260308T030000
TZOFFSETFROM:-0800
TZOFFSETTO:-0700
TZNAME:PDT
END:DAYLIGHT
END:VTIMEZONE
END:VCALENDAR