BEGIN:VCALENDAR
VERSION:2.0
PRODID:-//wp-events-plugin.com//7.2.3.1//EN
TZID:America/Vancouver
X-WR-TIMEZONE:America/Vancouver
BEGIN:VEVENT
UID:161@westviewlearning.ca
DTSTART;TZID=America/Vancouver:20260810T090000
DTEND;TZID=America/Vancouver:20260814T150000
DTSTAMP:20260401T195244Z
URL:https://westviewlearning.ca/events/week6-kitchen-capers-food-safe-cert
 ificate/
SUMMARY:Kitchen Capers & Food Safe Certificate Week 6 Aug 10-Aug 14 Ages 10
 -16
DESCRIPTION:Title: Kitchen Capers &amp\; Food Safe Certificate\n\nCost:  $
 400 + cost of Food Safe Test\n\nDate:  \nWeek 6: Aug 10-Aug 14 Ages 10-16
 \nWelcome to Cooking Camp – Garden to Table! 🌱🍅👩‍🍳\nGet re
 ady to roll up your sleeves and dive into a delicious hands-on cooking adv
 enture! At Cooking Camp\, campers will explore the journey from garden to 
 table by picking fresh vegetables straight from our own garden and turning
  them into tasty creations in the kitchen.\n\nAlong the way\, campers will
  learn essential kitchen skills\, discover fun dinner ideas they can make 
 at home\, and whip up delicious treats to share. From chopping and mixing 
 to baking and plating\, every day is packed with flavor and creativity.\n\
 nBest of all\, campers will also learn about food safety and have the chan
 ce to earn a food safety qualification\, giving them confidence and skills
  they can use for life.\n\nIf you love food\, creativity\, and trying new 
 recipes\, this camp is the perfect recipe for a fun-filled experience! 
 🍓🥕🥪\nYou are registering for Kitchen Capers &amp\; Food Safe Cert
 ificate  Week 6: Aug 10-Aug 14 Ages 10-16\n\n\nPlease Note in the form be
 low if your child has any social\, emotional\, or academic challenges that
  could impact their chosen camp. If you answer "yes" or "maybe"\, WVL Staf
 f will reach out prior to the camp to discuss your child’s needs\, and a
 rrange for an onsite visit prior to the camp to assist in making it a succ
 essful camp for all.
LOCATION:WestView Learning\, 3248 Cowichan Valley Hwy\, Duncan\, BC\, Briti
 sh Columbia\, V9L 5Z4\, Canada
X-APPLE-STRUCTURED-LOCATION;VALUE=URI;X-ADDRESS=3248 Cowichan Valley Hwy\, 
 Duncan\, BC\, British Columbia\, V9L 5Z4\, Canada;X-APPLE-RADIUS=100;X-TIT
 LE=WestView Learning:geo:0,0
END:VEVENT
BEGIN:VTIMEZONE
TZID:America/Vancouver
X-LIC-LOCATION:America/Vancouver
BEGIN:DAYLIGHT
DTSTART:20260308T030000
TZOFFSETFROM:-0800
TZOFFSETTO:-0700
TZNAME:PDT
END:DAYLIGHT
END:VTIMEZONE
END:VCALENDAR