BEGIN:VCALENDAR
VERSION:2.0
PRODID:-//wp-events-plugin.com//7.2.3.1//EN
TZID:America/Vancouver
X-WR-TIMEZONE:America/Vancouver
BEGIN:VEVENT
UID:140@westviewlearning.ca
DTSTART;TZID=America/Vancouver:20260817T090000
DTEND;TZID=America/Vancouver:20260821T150000
DTSTAMP:20260317T023646Z
URL:https://westviewlearning.ca/events/week7-animation-digital-art-camp/
SUMMARY:Animation & Digital Art Camp Week 7 Aug 17-21
DESCRIPTION:Title:  Animation &amp\; Digital Art Camp 🎨💻\nCost: $450
 \nDate:  Week 7 August 17-21\nBring your imagination to life at Animation
  &amp\; Digital Art Camp! Campers will explore the exciting world of digit
 al creativity\, learning how to create animations\, characters\, and stori
 es use media such as:\n\n 	old fashion flip books\n 	iPad illustration app
 s like Sketchbook\, Ibis Paint\, Procreate\, Adobe Illustration\n 	iPads a
 nimation apps like Animation Creator HS\, Procreate Dreams (even Stop Moti
 on Studio Pro)\n 	computer animation apps  like Adobe's  Animate\, After
  Effects\, Character Animator\n\nFrom drawing and designing characters to 
 bringing them to life with movement and effects\, every day is packed with
  hands-on digital art fun. Campers will learn key animation techniques\, e
 xperiment with storyboarding\, motion\, and visual effects\, and create th
 eir own short animations or digital art projects to share.\n\nWhether you 
 dream of making cartoons\, animated games\, or digital illustrations\, thi
 s camp is perfect for kids ready to explore their creativity\, develop new
  skills\, and have a blast in the world of animation! 🖌️✨\n\nFun ad
 d-ons could include:\n\n 	Character design challenges\n 	Storyboarding exe
 rcises\n 	Animation game jams\n 	Digital illustration mini-projects\n 	Col
 laborative short films\n\nIt’s art\, tech\, and storytelling all rolled 
 into one creative adventure! 🎬🖌️\nYou are registering for Animatio
 n &amp\; Digital Art \nWeek 7 August 17-21\n\n\nPlease Note in the form be
 low if your child has any social\, emotional\, or academic challenges that
  could impact their chosen camp. If you answer "yes" or "maybe"\, WVL Staf
 f will reach out prior to the camp to discuss your child’s needs\, and a
 rrange for an onsite visit prior to the camp to assist in making it a succ
 essful camp for all.\n
LOCATION:WestView Learning\, 3248 Cowichan Valley Hwy\, Duncan\, BC\, Briti
 sh Columbia\, V9L 5Z4\, Canada
X-APPLE-STRUCTURED-LOCATION;VALUE=URI;X-ADDRESS=3248 Cowichan Valley Hwy\, 
 Duncan\, BC\, British Columbia\, V9L 5Z4\, Canada;X-APPLE-RADIUS=100;X-TIT
 LE=WestView Learning:geo:0,0
END:VEVENT
BEGIN:VTIMEZONE
TZID:America/Vancouver
X-LIC-LOCATION:America/Vancouver
BEGIN:DAYLIGHT
DTSTART:20260308T030000
TZOFFSETFROM:-0800
TZOFFSETTO:-0700
TZNAME:PDT
END:DAYLIGHT
END:VTIMEZONE
END:VCALENDAR