BEGIN:VCALENDAR
VERSION:2.0
PRODID:-//wp-events-plugin.com//7.2.3.1//EN
TZID:America/Vancouver
X-WR-TIMEZONE:America/Vancouver
BEGIN:VEVENT
UID:142@westviewlearning.ca
DTSTART;TZID=America/Vancouver:20260817T090000
DTEND;TZID=America/Vancouver:20260821T150000
DTSTAMP:20260402T194951Z
URL:https://westviewlearning.ca/events/week7-circuit-camp-spark-spin-shine
 /
SUMMARY:Circuit Camp: Spark\, Spin & Shine! Week 7 Ages 8-12
DESCRIPTION:Title: Circuit Camp: Spark\, Spin &amp\; Shine!\nCost: $400\nDa
 te(s): \nWeek 7: Aug 17-Aug 21- Ages 8-12\nGet ready to build\, tinker\, a
 nd power up! In this hands-on Circuit Camp\, young inventors will explore 
 the exciting world of electricity using breadboards\, LED lights\, motors\
 , switches\, wires\, and mircocontroller development boards such as micro:
 bits and arduinos. Campers will learn how circuits work by experimenting\,
  problem-solving\, and bringing their creations to life with light\, motio
 n\, and sound.\n\nInstead of just learning about electricity\, campers wil
 l become real inventors\, testing ideas\, figuring out how things connect\
 , and discovering what happens when a circuit is complete (or when somethi
 ng needs fixing!). Along the way they’ll learn the basics of conductors\
 , switches\, polarity\, and simple circuit design in a fun\, approachable 
 way.\n\nPossible projects include:\n\n 	Build a light-up LED badge or name
  sign\n 	Create a spinning motor fan or mini propeller machine\n 	Design a
  switch-powered flashlight\n 	Make a light-up creature or robot\n 	Build a
  buzzing game or simple alarm circuit\n 	Create a tiny moving car powered 
 by a motor\n 	Invent a light-up greeting card or artwork\n 	Program their 
 own invention\n\nCampers will explore how electricity can light things up\
 , make things spin\, and power inventions\, all while developing creativit
 y\, curiosity\, and engineering skills. By the end of the camp\, they’ll
  have built several working projects and gained the confidence to keep inv
 enting and experimenting long after camp ends!\nYou are registering for Ci
 rcuit Camp: Spark\, Spin &amp\; Shine! \nWeek 7: Aug 17-Aug 21- Ages 8-12\
 n\n\nPlease Note in the form below if your child has any social\, emotiona
 l\, or academic challenges that could impact their chosen camp. If you ans
 wer "yes" or "maybe"\, WVL Staff will reach out prior to the camp to discu
 ss your child’s needs\, and arrange for an onsite visit prior to the cam
 p to assist in making it a successful camp for all.\n
LOCATION:WestView Learning\, 3248 Cowichan Valley Hwy\, Duncan\, BC\, Briti
 sh Columbia\, V9L 5Z4\, Canada
X-APPLE-STRUCTURED-LOCATION;VALUE=URI;X-ADDRESS=3248 Cowichan Valley Hwy\, 
 Duncan\, BC\, British Columbia\, V9L 5Z4\, Canada;X-APPLE-RADIUS=100;X-TIT
 LE=WestView Learning:geo:0,0
END:VEVENT
BEGIN:VTIMEZONE
TZID:America/Vancouver
X-LIC-LOCATION:America/Vancouver
BEGIN:DAYLIGHT
DTSTART:20260308T030000
TZOFFSETFROM:-0800
TZOFFSETTO:-0700
TZNAME:PDT
END:DAYLIGHT
END:VTIMEZONE
END:VCALENDAR