BEGIN:VCALENDAR
VERSION:2.0
PRODID:-//wp-events-plugin.com//7.2.3.1//EN
TZID:America/Vancouver
X-WR-TIMEZONE:America/Vancouver
BEGIN:VEVENT
UID:146@westviewlearning.ca
DTSTART;TZID=America/Vancouver:20260817T090000
DTEND;TZID=America/Vancouver:20260821T150000
DTSTAMP:20260401T195617Z
URL:https://westviewlearning.ca/events/week7-code-create-python/
SUMMARY:Code & Create With Block Coding & Python Week 7 Ages 9-14
DESCRIPTION:Week 7: Aug 17-Aug 21 Ages 9-14\nJump into the exciting world o
 f coding at Code &amp\; Create Camp! Campers will explore block-based codi
 ng to build games\, animations\, and interactive projects\, and then step 
 up to Python\, one of the world’s most popular programming languages.\n\
 nThrough fun\, hands-on projects\, campers will learn how to think like a 
 coder\, solve problems\, and bring their ideas to life. From designing gam
 es and digital art with block coding to writing Python scripts that make p
 rograms move\, this camp is packed with creative challenges\, teamwork\, a
 nd coding fun.\n\nWhether it’s making a game\, building a digital story\
 , or programming a robot\, campers will develop skills in logic\, computat
 ional thinking\, and creativity—all while having a blast exploring the w
 orld of technology.\n\nPerfect for beginners or budding coders\, Code &amp
 \; Create Camp turns imagination into interactive projects! 🖥️🎮\nY
 ou are registering for Code &amp\; Create With Block Coding &amp\; Python
  \nWeek 7: Aug 17-Aug 21 Ages 9-14\n\n\nPlease Note in the form below if 
 your child has any social\, emotional\, or academic challenges that could 
 impact their chosen camp. If you answer "yes" or "maybe"\, WVL Staff will 
 reach out prior to the camp to discuss your child’s needs\, and arrange 
 for an onsite visit prior to the camp to assist in making it a successful 
 camp for all.\n&nbsp\;
LOCATION:WestView Learning\, 3248 Cowichan Valley Hwy\, Duncan\, BC\, Briti
 sh Columbia\, V9L 5Z4\, Canada
X-APPLE-STRUCTURED-LOCATION;VALUE=URI;X-ADDRESS=3248 Cowichan Valley Hwy\, 
 Duncan\, BC\, British Columbia\, V9L 5Z4\, Canada;X-APPLE-RADIUS=100;X-TIT
 LE=WestView Learning:geo:0,0
END:VEVENT
BEGIN:VTIMEZONE
TZID:America/Vancouver
X-LIC-LOCATION:America/Vancouver
BEGIN:DAYLIGHT
DTSTART:20260308T030000
TZOFFSETFROM:-0800
TZOFFSETTO:-0700
TZNAME:PDT
END:DAYLIGHT
END:VTIMEZONE
END:VCALENDAR