BEGIN:VCALENDAR
VERSION:2.0
PRODID:-//wp-events-plugin.com//7.2.3.1//EN
TZID:America/Vancouver
X-WR-TIMEZONE:America/Vancouver
BEGIN:VEVENT
UID:158@westviewlearning.ca
DTSTART;TZID=America/Vancouver:20260817T090000
DTEND;TZID=America/Vancouver:20260821T150000
DTSTAMP:20260401T195350Z
URL:https://westviewlearning.ca/events/week7-kitchen-capers/
SUMMARY:Kitchen Capers Week 7: Aug 17-Aug 21 Ages 6-9
DESCRIPTION:Title: Welcome to Cooking Camp – Garden to Table! 🌱🍅
 👩‍🍳\nCost: $400\nDates:\nWeek 7: Aug 17-Aug 21 Ages 6-9\nGet ready
  to roll up your sleeves and dive into a delicious hands-on cooking advent
 ure! At Cooking Camp\, campers will explore the journey from garden to tab
 le by picking fresh vegetables straight from our own garden and turning th
 em into tasty creations in the kitchen.\n\nAlong the way\, campers will le
 arn essential kitchen skills\, discover fun dinner ideas they can make at 
 home\, and whip up delicious treats to share. From chopping and mixing to 
 baking and plating\, every day is packed with flavor and creativity.\n\nIf
  you love food\, creativity\, and trying new recipes\, this camp is the pe
 rfect recipe for a fun-filled experience! 🍓🥕🥪\nYou are registerin
 g for Kitchen Capers Week 7: Aug 17-Aug 21 Ages 6-9\n\n\nPlease Note in th
 e form below if your child has any social\, emotional\, or academic challe
 nges that could impact their chosen camp. If you answer "yes" or "maybe"\,
  WVL Staff will reach out prior to the camp to discuss your child’s need
 s\, and arrange for an onsite visit prior to the camp to assist in making 
 it a successful camp for all.\n
LOCATION:WestView Learning\, 3248 Cowichan Valley Hwy\, Duncan\, BC\, Briti
 sh Columbia\, V9L 5Z4\, Canada
X-APPLE-STRUCTURED-LOCATION;VALUE=URI;X-ADDRESS=3248 Cowichan Valley Hwy\, 
 Duncan\, BC\, British Columbia\, V9L 5Z4\, Canada;X-APPLE-RADIUS=100;X-TIT
 LE=WestView Learning:geo:0,0
END:VEVENT
BEGIN:VTIMEZONE
TZID:America/Vancouver
X-LIC-LOCATION:America/Vancouver
BEGIN:DAYLIGHT
DTSTART:20260308T030000
TZOFFSETFROM:-0800
TZOFFSETTO:-0700
TZNAME:PDT
END:DAYLIGHT
END:VTIMEZONE
END:VCALENDAR