BEGIN:VCALENDAR
VERSION:2.0
PRODID:-//wp-events-plugin.com//7.2.3.1//EN
TZID:America/Vancouver
X-WR-TIMEZONE:America/Vancouver
BEGIN:VEVENT
UID:144@westviewlearning.ca
DTSTART;TZID=America/Vancouver:20260824T090000
DTEND;TZID=America/Vancouver:20260828T150000
DTSTAMP:20260401T195905Z
URL:https://westviewlearning.ca/events/week8-back-to-school-crafts-camp/
SUMMARY:Back-to-School Crafts Camp Week 8 Ages 8-14
DESCRIPTION:Get ready to kick off the school year with creativity and fun! 
 At Back-to-School Crafts Camp\, campers will dive into hands-on projects t
 o make their school life more colorful and personalized. From sewing proje
 cts\, custom book covers\, and bulletin board designs\, to desk organizers
 \, pencil pouches\, and locker decorations\, every day is packed with crea
 tive ideas and crafty fun.\n\nCampers will learn new skills\, express thei
 r style\, and create cool\, useful items they can take to school. Whether 
 it’s making a personalized backpack tag\, a fun notebook cover\, or a wa
 ll hanging for their room\, this camp is all about crafting\, creativity\,
  and back-to-school excitement!\n\nYou are registering for Back-to-School 
 Crafts Camp \nWeek 8:  Aug 24-Aug 28 Ages 8-14\n\n\nPlease Note in the f
 orm below if your child has any social\, emotional\, or academic challenge
 s that could impact their chosen camp. If you answer "yes" or "maybe"\, WV
 L Staff will reach out prior to the camp to discuss your child’s needs\,
  and arrange for an onsite visit prior to the camp to assist in making it 
 a successful camp for all.\n
LOCATION:WestView Learning\, 3248 Cowichan Valley Hwy\, Duncan\, BC\, Briti
 sh Columbia\, V9L 5Z4\, Canada
X-APPLE-STRUCTURED-LOCATION;VALUE=URI;X-ADDRESS=3248 Cowichan Valley Hwy\, 
 Duncan\, BC\, British Columbia\, V9L 5Z4\, Canada;X-APPLE-RADIUS=100;X-TIT
 LE=WestView Learning:geo:0,0
END:VEVENT
BEGIN:VTIMEZONE
TZID:America/Vancouver
X-LIC-LOCATION:America/Vancouver
BEGIN:DAYLIGHT
DTSTART:20260308T030000
TZOFFSETFROM:-0800
TZOFFSETTO:-0700
TZNAME:PDT
END:DAYLIGHT
END:VTIMEZONE
END:VCALENDAR