BEGIN:VCALENDAR
VERSION:2.0
PRODID:-//wp-events-plugin.com//7.2.3.1//EN
TZID:America/Vancouver
X-WR-TIMEZONE:America/Vancouver
BEGIN:VEVENT
UID:143@westviewlearning.ca
DTSTART;TZID=America/Vancouver:20260824T090000
DTEND;TZID=America/Vancouver:20260828T150000
DTSTAMP:20260317T022919Z
URL:https://westviewlearning.ca/events/week8-circuit-camp/
SUMMARY:Circuit Camp: Spark\, Spin & Shine! Week 8 Ages 10-16
DESCRIPTION:Title: Circuit Camp: Spark\, Spin &amp\; Shine!\nCost: $400\nDa
 te(s): \nWeek 8: Aug 24-Aug 28 - Ages 10-16\nGet ready to build\, tinker\,
  and power up! In this hands-on Circuit Camp\, young inventors will explor
 e the exciting world of electricity using breadboards\, LED lights\, motor
 s\, switches\, wires\, and mircocontroller development boards such as micr
 o:bits and arduinos. Campers will learn how circuits work by experimenting
 \, problem-solving\, and bringing their creations to life with light\, mot
 ion\, and sound.\n\nInstead of just learning about electricity\, campers w
 ill become real inventors\, testing ideas\, figuring out how things connec
 t\, and discovering what happens when a circuit is complete (or when somet
 hing needs fixing!). Along the way they’ll learn the basics of conductor
 s\, switches\, polarity\, and simple circuit design in a fun\, approachabl
 e way.\n\nPossible projects include:\n\n 	Build a light-up LED badge or na
 me sign\n 	Create a spinning motor fan or mini propeller machine\n 	Design
  a switch-powered flashlight\n 	Make a light-up creature or robot\n 	Build
  a buzzing game or simple alarm circuit\n 	Create a tiny moving car powere
 d by a motor\n 	Invent a light-up greeting card or artwork\n 	Program thei
 r own invention\n\nCampers will explore how electricity can light things u
 p\, make things spin\, and power inventions\, all while developing creativ
 ity\, curiosity\, and engineering skills. By the end of the camp\, they’
 ll have built several working projects and gained the confidence to keep i
 nventing and experimenting long after camp ends!\nYou are registering for 
 Circuit Camp: Spark\, Spin &amp\; Shine! \nWeek 8: Aug 24-Aug 28 - Ages 10
 -16\n\nPlease Note in the form below if your child has any social\, emotio
 nal\, or academic challenges that could impact their chosen camp. If you a
 nswer "yes" or "maybe"\, WVL Staff will reach out prior to the camp to dis
 cuss your child’s needs\, and arrange for an onsite visit prior to the c
 amp to assist in making it a successful camp for all.
LOCATION:WestView Learning\, 3248 Cowichan Valley Hwy\, Duncan\, BC\, Briti
 sh Columbia\, V9L 5Z4\, Canada
X-APPLE-STRUCTURED-LOCATION;VALUE=URI;X-ADDRESS=3248 Cowichan Valley Hwy\, 
 Duncan\, BC\, British Columbia\, V9L 5Z4\, Canada;X-APPLE-RADIUS=100;X-TIT
 LE=WestView Learning:geo:0,0
END:VEVENT
BEGIN:VTIMEZONE
TZID:America/Vancouver
X-LIC-LOCATION:America/Vancouver
BEGIN:DAYLIGHT
DTSTART:20260308T030000
TZOFFSETFROM:-0800
TZOFFSETTO:-0700
TZNAME:PDT
END:DAYLIGHT
END:VTIMEZONE
END:VCALENDAR