BEGIN:VCALENDAR
VERSION:2.0
PRODID:-//wp-events-plugin.com//7.2.3.1//EN
TZID:America/Vancouver
X-WR-TIMEZONE:America/Vancouver
BEGIN:VEVENT
UID:149@westviewlearning.ca
DTSTART;TZID=America/Vancouver:20260824T090000
DTEND;TZID=America/Vancouver:20260828T150000
DTSTAMP:20260401T200004Z
URL:https://westviewlearning.ca/events/week8-everything-minecraft-camp/
SUMMARY:Everything Minecraft Camp Week 8 Ages 6-9
DESCRIPTION:Title: Everything Minecraft Camp ⛏️🟩\nCost: $350\nDates:
  \nWeek 8 Aug 24 - Aug 28\nCalling all Minecraft fans! Get ready for a bl
 ock-building adventure where the world of Minecraft comes to life beyond t
 he screen. At Everything Minecraft Camp\, campers will dive into a day pac
 ked with creative building\, games\, and pixel-powered fun.\n\nBuild your 
 favorite characters\, mobs\, and worlds using Minecraft LEGO\, explore the
  basics of Minecraft-inspired coding and block coding\, and bring your ima
 gination to life with Minecraft colouring sheets and crafts. Campers will 
 also take part in exciting themed games and challenges that test their cre
 ativity\, teamwork\, and problem-solving skills.\n\nWhether you love build
 ing epic structures\, exploring new worlds\, or learning how games work be
 hind the scenes\, this camp is full of adventure\, creativity\, and Minecr
 aft magic.\n\nSo grab your pickaxe and get ready to build\, code\, create\
 , and play at Everything Minecraft Camp!\nYou are registering for Everythi
 ng Minecraft \nWeek 8 Aug 24 - Aug 28\n\n\nPlease Note in the form below i
 f your child has any social\, emotional\, or academic challenges that coul
 d impact their chosen camp. If you answer "yes" or "maybe"\, WVL Staff wil
 l reach out prior to the camp to discuss your child’s needs\, and arrang
 e for an onsite visit prior to the camp to assist in making it a successfu
 l camp for all.
LOCATION:WestView Learning\, 3248 Cowichan Valley Hwy\, Duncan\, BC\, Briti
 sh Columbia\, V9L 5Z4\, Canada
X-APPLE-STRUCTURED-LOCATION;VALUE=URI;X-ADDRESS=3248 Cowichan Valley Hwy\, 
 Duncan\, BC\, British Columbia\, V9L 5Z4\, Canada;X-APPLE-RADIUS=100;X-TIT
 LE=WestView Learning:geo:0,0
END:VEVENT
BEGIN:VTIMEZONE
TZID:America/Vancouver
X-LIC-LOCATION:America/Vancouver
BEGIN:DAYLIGHT
DTSTART:20260308T030000
TZOFFSETFROM:-0800
TZOFFSETTO:-0700
TZNAME:PDT
END:DAYLIGHT
END:VTIMEZONE
END:VCALENDAR