BEGIN:VCALENDAR
VERSION:2.0
PRODID:-//wp-events-plugin.com//7.2.3.1//EN
TZID:America/Vancouver
X-WR-TIMEZONE:America/Vancouver
BEGIN:VEVENT
UID:163@westviewlearning.ca
DTSTART;TZID=America/Vancouver:20260824T090000
DTEND;TZID=America/Vancouver:20260828T150000
DTSTAMP:20260317T022830Z
URL:https://westviewlearning.ca/events/week8-robotics-lego-spike-and-vex-a
 dventure-camp/
SUMMARY:Robotics: Lego Spike and Vex Adventure Camp Week 8: Aug 24-Aug 28 A
 ges 9-14
DESCRIPTION:Title: Welcome to Robotics: Lego Spike and Vex Adventure Camp 
 🤖⚡\nCost: $450\nDates:\nWeek 8: Aug 24-Aug 28 Ages 9-14\nGet ready to
  build\, code\, and compete at Robotics Adventure Camp! Campers will dive 
 into the exciting world of robotics using VEX IQ and LEGO SPIKE robots\, l
 earning how to design\, program\, and control their own creations.\n\nFrom
  building clever robots to solving engineering challenges and testing them
  in fun competitions\, every day is packed with hands-on STEM fun. Campers
  will practice coding\, problem-solving\, teamwork\, and creativity as the
 y bring their robots to life.\n\nWhether your child wants to race\, naviga
 te obstacle courses\, or create robot inventions\, Robotics Adventure Camp
  is the perfect place to explore technology\, build skills\, and have a bl
 ast with robots! 🤖🏆\nYou are registering for Robotics: Lego Spike an
 d Vex Adventure Camp \nWeek 8: Aug 24-Aug 28 Ages 9-14\n\n\nPlease Note in
  the form below if your child has any social\, emotional\, or academic cha
 llenges that could impact their chosen camp. If you answer "yes" or "maybe
 "\, WVL Staff will reach out prior to the camp to discuss your child’s n
 eeds\, and arrange for an onsite visit prior to the camp to assist in maki
 ng it a successful camp for all.
LOCATION:WestView Learning\, 3248 Cowichan Valley Hwy\, Duncan\, BC\, Briti
 sh Columbia\, V9L 5Z4\, Canada
X-APPLE-STRUCTURED-LOCATION;VALUE=URI;X-ADDRESS=3248 Cowichan Valley Hwy\, 
 Duncan\, BC\, British Columbia\, V9L 5Z4\, Canada;X-APPLE-RADIUS=100;X-TIT
 LE=WestView Learning:geo:0,0
END:VEVENT
BEGIN:VTIMEZONE
TZID:America/Vancouver
X-LIC-LOCATION:America/Vancouver
BEGIN:DAYLIGHT
DTSTART:20260308T030000
TZOFFSETFROM:-0800
TZOFFSETTO:-0700
TZNAME:PDT
END:DAYLIGHT
END:VTIMEZONE
END:VCALENDAR